BEGIN:VCALENDAR
PRODID:-//spiritec//spiritec media library//EN
VERSION:2.0
METHOD:PUBLISH
BEGIN:VEVENT
UID:ical-2026-04-21-8596
DTSTART:20260421T104500Z
DTSTAMP:20260420T043806Z
LOCATION:Opernhaus, Foyer I. Rang
SUMMARY:Lunchkonzert
DESCRIPTION:Oberer Schloßgarten 6\n70173 Stuttgart\n\nKonrad-Adenauer-Straße 32 (Neue Staatsgalerie)\n70173 Stuttgart\n\nU5, U6, U7, U15 bis Hauptbahnhof; Bus 40, 42 bis Hauptbahnhof\nParkhäuser: Schloßgarten, Staatsgalerie und Landtag (alle durchgehend)
CREATED:20260420T043806Z
DTEND:20260421T111500Z
END:VEVENT
END:VCALENDAR
