BEGIN:VCALENDAR
PRODID:-//spiritec//spiritec media library//EN
VERSION:2.0
METHOD:PUBLISH
BEGIN:VEVENT
UID:ical-2026-06-27-8643
DTSTART:20260627T173000Z
DTSTAMP:20260424T010955Z
LOCATION:Opernhaus
SUMMARY:Oper meets HipHop
DESCRIPTION:Oberer Schloßgarten 6 \n70173 Stuttgart\n\nKonrad-Adenauer-Straße 32 (Neue Staatsgalerie)\n70173 Stuttgart\n\nU5, U6, U7, U15 bis Hauptbahnhof; Bus 40, 42 bis Hauptbahnhof\nParkhäuser: Schloßgarten, Staatsgalerie und Landtag (alle durchgehend)
CREATED:20260424T010955Z
DTEND:20260627T215900Z
END:VEVENT
END:VCALENDAR
