BEGIN:VCALENDAR
PRODID:-//spiritec//spiritec media library//EN
VERSION:2.0
METHOD:PUBLISH
BEGIN:VEVENT
UID:ical-2026-06-09-8778
DTSTART:20260609T130000Z
DTSTAMP:20260423T143852Z
LOCATION:Staatstheater Stuttgart
SUMMARY:Einblicke – Fokus: Sanierung
DESCRIPTION:Oberer Schloßgarten 6\n70173 Stuttgart\n\nU5, U6, U7, U15 bis Hauptbahnhof; Bus 40, 42 bis Hauptbahnhof\nParkhäuser: Schloßgarten, Staatsgalerie und Landtag (alle durchgehend)
CREATED:20260423T143852Z
DTEND:20260609T143000Z
END:VEVENT
END:VCALENDAR
