BEGIN:VCALENDAR
PRODID:-//spiritec//spiritec media library//EN
VERSION:2.0
METHOD:PUBLISH
BEGIN:VEVENT
UID:ical-2026-06-04-8828
DTSTART:20260604T170000Z
DTSTAMP:20260423T173140Z
LOCATION:Nord
SUMMARY:Klarkommen
DESCRIPTION:
CREATED:20260423T173140Z
DTEND:20260604T215900Z
END:VEVENT
END:VCALENDAR
