BEGIN:VCALENDAR
PRODID:-//spiritec//spiritec media library//EN
VERSION:2.0
METHOD:PUBLISH
BEGIN:VEVENT
UID:ical-2026-06-05-8829
DTSTART:20260605T170000Z
DTSTAMP:20260423T112915Z
LOCATION:Nord
SUMMARY:Klarkommen
DESCRIPTION:
CREATED:20260423T112915Z
DTEND:20260605T215900Z
END:VEVENT
END:VCALENDAR
