BEGIN:VCALENDAR
PRODID:-//spiritec//spiritec media library//EN
VERSION:2.0
METHOD:PUBLISH
BEGIN:VEVENT
UID:ical-2026-06-06-8830
DTSTART:20260606T170000Z
DTSTAMP:20260423T110701Z
LOCATION:Nord
SUMMARY:Klarkommen
DESCRIPTION:
CREATED:20260423T110701Z
DTEND:20260606T215900Z
END:VEVENT
END:VCALENDAR
