BEGIN:VCALENDAR
PRODID:-//spiritec//spiritec media library//EN
VERSION:2.0
METHOD:PUBLISH
BEGIN:VEVENT
UID:ical-2026-07-10-8831
DTSTART:20260710T170000Z
DTSTAMP:20260423T234733Z
LOCATION:Nord
SUMMARY:Klarkommen
DESCRIPTION:
CREATED:20260423T234733Z
DTEND:20260710T215900Z
END:VEVENT
END:VCALENDAR
