BEGIN:VCALENDAR
PRODID:-//spiritec//spiritec media library//EN
VERSION:2.0
METHOD:PUBLISH
BEGIN:VEVENT
UID:ical-2026-07-11-8832
DTSTART:20260711T170000Z
DTSTAMP:20260423T171158Z
LOCATION:Nord
SUMMARY:Klarkommen
DESCRIPTION:
CREATED:20260423T171158Z
DTEND:20260711T215900Z
END:VEVENT
END:VCALENDAR
