BEGIN:VCALENDAR
PRODID:-//spiritec//spiritec media library//EN
VERSION:2.0
METHOD:PUBLISH
BEGIN:VEVENT
UID:ical-2026-04-30-8837
DTSTART:20260430T170000Z
DTSTAMP:20260424T021913Z
LOCATION:Nord
SUMMARY:Chaos
DESCRIPTION:
CREATED:20260424T021913Z
DTEND:20260430T183000Z
END:VEVENT
END:VCALENDAR
