BEGIN:VCALENDAR
PRODID:-//spiritec//spiritec media library//EN
VERSION:2.0
METHOD:PUBLISH
BEGIN:VEVENT
UID:ical-2026-05-19-8841
DTSTART:20260519T090000Z
DTSTAMP:20260423T152434Z
LOCATION:Nord
SUMMARY:Chaos
DESCRIPTION:
CREATED:20260423T152434Z
DTEND:20260519T103000Z
END:VEVENT
END:VCALENDAR
