BEGIN:VCALENDAR
PRODID:-//spiritec//spiritec media library//EN
VERSION:2.0
METHOD:PUBLISH
BEGIN:VEVENT
UID:ical-2026-05-18-9002
DTSTART:20260518T170000Z
DTSTAMP:20260422T201259Z
LOCATION:Nebenraum Kantine
SUMMARY:Libretti lesen
DESCRIPTION:
CREATED:20260422T201259Z
DTEND:20260518T183000Z
END:VEVENT
END:VCALENDAR
