BEGIN:VCALENDAR
PRODID:-//spiritec//spiritec media library//EN
VERSION:2.0
METHOD:PUBLISH
BEGIN:VEVENT
UID:ical-2026-06-23-9003
DTSTART:20260623T170000Z
DTSTAMP:20260423T000259Z
LOCATION:Nebenraum Kantine
SUMMARY:Libretti lesen
DESCRIPTION:
CREATED:20260423T000259Z
DTEND:20260623T183000Z
END:VEVENT
END:VCALENDAR
