BEGIN:VCALENDAR
PRODID:-//spiritec//spiritec media library//EN
VERSION:2.0
METHOD:PUBLISH
BEGIN:VEVENT
UID:ical-2026-04-30-9393
DTSTART:20260430T154500Z
DTSTAMP:20260423T224952Z
LOCATION:Diverse Veranstaltungsorte (siehe Programm)
SUMMARY:Die lange Nacht der Musik von Zuhause
DESCRIPTION:
CREATED:20260423T224952Z
DTEND:20260429T230000Z
END:VEVENT
END:VCALENDAR
