BEGIN:VCALENDAR
PRODID:-//spiritec//spiritec media library//EN
VERSION:2.0
METHOD:PUBLISH
BEGIN:VEVENT
UID:ical-2026-04-18-9441
DTSTART:20260418T080000Z
DTSTAMP:20260423T002337Z
LOCATION:Nord
SUMMARY:Echo Paradiso
DESCRIPTION:
CREATED:20260423T002337Z
DTEND:20260418T110000Z
END:VEVENT
END:VCALENDAR
