BEGIN:VCALENDAR
PRODID:-//spiritec//spiritec media library//EN
VERSION:2.0
METHOD:PUBLISH
BEGIN:VEVENT
UID:ical-2026-04-23-9442
DTSTART:20260423T170000Z
DTSTAMP:20260423T190540Z
LOCATION:Haus der Geschichte
SUMMARY:Liebe, D-Mark und Tod
DESCRIPTION:
CREATED:20260423T190540Z
DTEND:20260423T215900Z
END:VEVENT
END:VCALENDAR
