BEGIN:VCALENDAR
PRODID:-//spiritec//spiritec media library//EN
VERSION:2.0
METHOD:PUBLISH
BEGIN:VEVENT
UID:ical-2026-05-16-9446
DTSTART:20260516T160000Z
DTSTAMP:20260423T070248Z
LOCATION:StadtPalais
SUMMARY:Party Paradiso
DESCRIPTION:
CREATED:20260423T070248Z
DTEND:20260516T200000Z
END:VEVENT
END:VCALENDAR
