BEGIN:VCALENDAR
PRODID:-//spiritec//spiritec media library//EN
VERSION:2.0
METHOD:PUBLISH
BEGIN:VEVENT
UID:ical-2026-05-15-9449
DTSTART:20260515T130000Z
DTSTAMP:20260423T035939Z
LOCATION:Zentrallager
SUMMARY:Einblicke – Fokus: Zentrallager
DESCRIPTION:Zuckerfabrik 19\n70376 Stuttgart Bad Cannstatt\nAnfahrt: U12, Bus 56, Haltestelle Bottroper Straße
CREATED:20260423T035939Z
DTEND:20260515T143000Z
END:VEVENT
END:VCALENDAR
