BEGIN:VCALENDAR
PRODID:-//spiritec//spiritec media library//EN
VERSION:2.0
METHOD:PUBLISH
BEGIN:VEVENT
UID:ical-2026-05-30-9453
DTSTART:20260530T121500Z
DTSTAMP:20260424T124850Z
LOCATION:Treffpunkt Freitreppe Opernhaus
SUMMARY:Einblicke
DESCRIPTION:Oberer Schloßgarten 6\n70173 Stuttgart
CREATED:20260424T124850Z
DTEND:20260530T134500Z
END:VEVENT
END:VCALENDAR
