BEGIN:VCALENDAR
PRODID:-//spiritec//spiritec media library//EN
VERSION:2.0
METHOD:PUBLISH
BEGIN:VEVENT
UID:ical-2026-05-30-9454
DTSTART:20260530T121600Z
DTSTAMP:20260424T035525Z
LOCATION:Treffpunkt Freitreppe Opernhaus
SUMMARY:Einblicke für Kinder
DESCRIPTION:Oberer Schloßgarten 6\n70173 Stuttgart
CREATED:20260424T035525Z
DTEND:20260530T134500Z
END:VEVENT
END:VCALENDAR
