BEGIN:VCALENDAR
PRODID:-//spiritec//spiritec media library//EN
VERSION:2.0
METHOD:PUBLISH
BEGIN:VEVENT
UID:ical-2026-06-07-9510
DTSTART:20260607T090000Z
DTSTAMP:20260423T000259Z
LOCATION:Treffpunkt Freitreppe Opernhaus
SUMMARY:Einblicke
DESCRIPTION:Oberer Schloßgarten 6\n70173 Stuttgart
CREATED:20260423T000259Z
DTEND:20260607T103000Z
END:VEVENT
END:VCALENDAR
