BEGIN:VCALENDAR
PRODID:-//spiritec//spiritec media library//EN
VERSION:2.0
METHOD:PUBLISH
BEGIN:VEVENT
UID:ical-2026-05-31-9514
DTSTART:20260531T090000Z
DTSTAMP:20260423T185819Z
LOCATION:Foyer Nord
SUMMARY:Tee&Techno
DESCRIPTION:Löwentorstraße 68\nLöwentorbogen\n70376 Stuttgart
CREATED:20260423T185819Z
DTEND:20260531T215900Z
END:VEVENT
END:VCALENDAR
