BEGIN:VCALENDAR
PRODID:-//spiritec//spiritec media library//EN
VERSION:2.0
METHOD:PUBLISH
BEGIN:VEVENT
UID:ical-2026-07-12-9768
DTSTART:20260712T170000Z
DTSTAMP:20260422T231840Z
LOCATION:Nord
SUMMARY:Klarkommen
DESCRIPTION:
CREATED:20260422T231840Z
DTEND:20260712T215900Z
END:VEVENT
END:VCALENDAR
