BEGIN:VCALENDAR
PRODID:-//spiritec//spiritec media library//EN
VERSION:2.0
METHOD:PUBLISH
BEGIN:VEVENT
UID:ical-2026-04-22-9804
DTSTART:20260422T173000Z
DTSTAMP:20260423T000122Z
LOCATION:Literaturhaus Stuttgart
SUMMARY:Vom guten Leben und Fischen im Trüben
DESCRIPTION:
CREATED:20260423T000122Z
DTEND:20260422T215900Z
END:VEVENT
END:VCALENDAR
