BEGIN:VCALENDAR
PRODID:-//spiritec//spiritec media library//EN
VERSION:2.0
METHOD:PUBLISH
BEGIN:VEVENT
UID:ical-2026-05-05-9818
DTSTART:20260505T170000Z
DTSTAMP:20260423T155511Z
LOCATION:Opernhaus
SUMMARY:Öffentliche Probe: Station Paradiso
DESCRIPTION:Oberer Schloßgarten 6 \n70173 Stuttgart\n\nKonrad-Adenauer-Straße 32 (Neue Staatsgalerie)\n70173 Stuttgart\n\nU5, U6, U7, U15 bis Hauptbahnhof; Bus 40, 42 bis Hauptbahnhof\nParkhäuser: Schloßgarten, Staatsgalerie und Landtag (alle durchgehend)
CREATED:20260423T155511Z
DTEND:20260505T183000Z
END:VEVENT
END:VCALENDAR
